BEGIN:VCALENDAR
VERSION:2.0
PRODID:-//Mount Olive Seventh-day Adventist Church - ECPv6.15.20//NONSGML v1.0//EN
CALSCALE:GREGORIAN
METHOD:PUBLISH
X-ORIGINAL-URL:https://mtolivesda.org
X-WR-CALDESC:Events for Mount Olive Seventh-day Adventist Church
REFRESH-INTERVAL;VALUE=DURATION:PT1H
X-Robots-Tag:noindex
X-PUBLISHED-TTL:PT1H
BEGIN:VTIMEZONE
TZID:America/Toronto
BEGIN:DAYLIGHT
TZOFFSETFROM:-0500
TZOFFSETTO:-0400
TZNAME:EDT
DTSTART:20230312T070000
END:DAYLIGHT
BEGIN:STANDARD
TZOFFSETFROM:-0400
TZOFFSETTO:-0500
TZNAME:EST
DTSTART:20231105T060000
END:STANDARD
BEGIN:DAYLIGHT
TZOFFSETFROM:-0500
TZOFFSETTO:-0400
TZNAME:EDT
DTSTART:20240310T070000
END:DAYLIGHT
BEGIN:STANDARD
TZOFFSETFROM:-0400
TZOFFSETTO:-0500
TZNAME:EST
DTSTART:20241103T060000
END:STANDARD
BEGIN:DAYLIGHT
TZOFFSETFROM:-0500
TZOFFSETTO:-0400
TZNAME:EDT
DTSTART:20250309T070000
END:DAYLIGHT
BEGIN:STANDARD
TZOFFSETFROM:-0400
TZOFFSETTO:-0500
TZNAME:EST
DTSTART:20251102T060000
END:STANDARD
END:VTIMEZONE
BEGIN:VEVENT
DTSTART;VALUE=DATE:20241109
DTEND;VALUE=DATE:20241110
DTSTAMP:20260423T124702
CREATED:20240428T235625Z
LAST-MODIFIED:20240428T235625Z
UID:1173-1731110400-1731196799@mtolivesda.org
SUMMARY:Investiture
DESCRIPTION:
URL:https://mtolivesda.org/event/investiture/
LOCATION:Mount Olive Seventh-day Adventist Church\, 1030 Albion Road\, Etobicoke\, Ontario\, M9V 1A7\, Canada
END:VEVENT
BEGIN:VEVENT
DTSTART;VALUE=DATE:20241102
DTEND;VALUE=DATE:20241103
DTSTAMP:20260423T124702
CREATED:20240428T235544Z
LAST-MODIFIED:20240428T235544Z
UID:1171-1730505600-1730591999@mtolivesda.org
SUMMARY:Baby Dedication
DESCRIPTION:
URL:https://mtolivesda.org/event/baby-dedication-8/
LOCATION:Mount Olive Seventh-day Adventist Church\, 1030 Albion Road\, Etobicoke\, Ontario\, M9V 1A7\, Canada
END:VEVENT
BEGIN:VEVENT
DTSTART;VALUE=DATE:20241026
DTEND;VALUE=DATE:20241027
DTSTAMP:20260423T124702
CREATED:20240428T235429Z
LAST-MODIFIED:20240428T235429Z
UID:1168-1729900800-1729987199@mtolivesda.org
SUMMARY:Health Emphasis Day
DESCRIPTION:
URL:https://mtolivesda.org/event/health-emphasis-day/
LOCATION:Mount Olive Seventh-day Adventist Church\, 1030 Albion Road\, Etobicoke\, Ontario\, M9V 1A7\, Canada
END:VEVENT
BEGIN:VEVENT
DTSTART;VALUE=DATE:20241019
DTEND;VALUE=DATE:20241020
DTSTAMP:20260423T124702
CREATED:20240428T235330Z
LAST-MODIFIED:20240428T235330Z
UID:1166-1729296000-1729382399@mtolivesda.org
SUMMARY:Deacon & Deaconess Day
DESCRIPTION:
URL:https://mtolivesda.org/event/deacon-deaconess-day-2/
LOCATION:Mount Olive Seventh-day Adventist Church\, 1030 Albion Road\, Etobicoke\, Ontario\, M9V 1A7\, Canada
END:VEVENT
BEGIN:VEVENT
DTSTART;TZID=America/Toronto:20241012T184500
DTEND;TZID=America/Toronto:20241012T184500
DTSTAMP:20260423T124702
CREATED:20240504T213352Z
LAST-MODIFIED:20240504T213352Z
UID:1257-1728758700-1728758700@mtolivesda.org
SUMMARY:Church Board Meeting
DESCRIPTION:
URL:https://mtolivesda.org/event/church-board-meeting-5/
LOCATION:Mount Olive Seventh-day Adventist Church\, 1030 Albion Road\, Etobicoke\, Ontario\, M9V 1A7\, Canada
END:VEVENT
BEGIN:VEVENT
DTSTART;VALUE=DATE:20241012
DTEND;VALUE=DATE:20241013
DTSTAMP:20260423T124702
CREATED:20240504T213258Z
LAST-MODIFIED:20240504T213258Z
UID:1255-1728691200-1728777599@mtolivesda.org
SUMMARY:Youth Day
DESCRIPTION:
URL:https://mtolivesda.org/event/youth-day/
LOCATION:Mount Olive Seventh-day Adventist Church\, 1030 Albion Road\, Etobicoke\, Ontario\, M9V 1A7\, Canada
END:VEVENT
BEGIN:VEVENT
DTSTART;VALUE=DATE:20241012
DTEND;VALUE=DATE:20241013
DTSTAMP:20260423T124702
CREATED:20240428T235244Z
LAST-MODIFIED:20240428T235244Z
UID:1164-1728691200-1728777599@mtolivesda.org
SUMMARY:Thanksgiving Social
DESCRIPTION:
URL:https://mtolivesda.org/event/thanksgiving-social/
LOCATION:Mount Olive Seventh-day Adventist Church\, 1030 Albion Road\, Etobicoke\, Ontario\, M9V 1A7\, Canada
END:VEVENT
BEGIN:VEVENT
DTSTART;VALUE=DATE:20241005
DTEND;VALUE=DATE:20241006
DTSTAMP:20260423T124702
CREATED:20240428T235137Z
LAST-MODIFIED:20240428T235137Z
UID:1162-1728086400-1728172799@mtolivesda.org
SUMMARY:AY
DESCRIPTION:
URL:https://mtolivesda.org/event/ay-2/
LOCATION:Mount Olive Seventh-day Adventist Church\, 1030 Albion Road\, Etobicoke\, Ontario\, M9V 1A7\, Canada
END:VEVENT
BEGIN:VEVENT
DTSTART;VALUE=DATE:20241005
DTEND;VALUE=DATE:20241006
DTSTAMP:20260423T124702
CREATED:20240428T235040Z
LAST-MODIFIED:20240428T235040Z
UID:1160-1728086400-1728172799@mtolivesda.org
SUMMARY:Baby Dedication
DESCRIPTION:
URL:https://mtolivesda.org/event/baby-dedication-7/
END:VEVENT
BEGIN:VEVENT
DTSTART;TZID=America/Toronto:20240929T203000
DTEND;TZID=America/Toronto:20240929T203000
DTSTAMP:20260423T124702
CREATED:20240504T212926Z
LAST-MODIFIED:20240504T212926Z
UID:1253-1727641800-1727641800@mtolivesda.org
SUMMARY:Business @Sunset
DESCRIPTION:
URL:https://mtolivesda.org/event/business-sunset/
LOCATION:Mount Olive Seventh-day Adventist Church\, 1030 Albion Road\, Etobicoke\, Ontario\, M9V 1A7\, Canada
END:VEVENT
BEGIN:VEVENT
DTSTART;VALUE=DATE:20240929
DTEND;VALUE=DATE:20240930
DTSTAMP:20260423T124702
CREATED:20240428T234756Z
LAST-MODIFIED:20240428T234756Z
UID:1158-1727568000-1727654399@mtolivesda.org
SUMMARY:EGWhite Estate Trip
DESCRIPTION:
URL:https://mtolivesda.org/event/egwhite-estate-trip/
LOCATION:Mount Olive Seventh-day Adventist Church\, 1030 Albion Road\, Etobicoke\, Ontario\, M9V 1A7\, Canada
END:VEVENT
BEGIN:VEVENT
DTSTART;VALUE=DATE:20240928
DTEND;VALUE=DATE:20240929
DTSTAMP:20260423T124702
CREATED:20240428T234646Z
LAST-MODIFIED:20240428T234646Z
UID:1156-1727481600-1727567999@mtolivesda.org
SUMMARY:Thanksgiving/Sabbath School Guest Day
DESCRIPTION:
URL:https://mtolivesda.org/event/thanksgiving-sabbath-school-guest-day/
END:VEVENT
BEGIN:VEVENT
DTSTART;VALUE=DATE:20240921
DTEND;VALUE=DATE:20240922
DTSTAMP:20260423T124702
CREATED:20240428T234458Z
LAST-MODIFIED:20240428T234543Z
UID:1153-1726876800-1726963199@mtolivesda.org
SUMMARY:Bake Sale
DESCRIPTION:
URL:https://mtolivesda.org/event/ay/
LOCATION:Mount Olive Seventh-day Adventist Church\, 1030 Albion Road\, Etobicoke\, Ontario\, M9V 1A7\, Canada
END:VEVENT
BEGIN:VEVENT
DTSTART;VALUE=DATE:20240921
DTEND;VALUE=DATE:20240922
DTSTAMP:20260423T124702
CREATED:20240428T233737Z
LAST-MODIFIED:20240428T233737Z
UID:1151-1726876800-1726963199@mtolivesda.org
SUMMARY:Community Services Day
DESCRIPTION:
URL:https://mtolivesda.org/event/community-services-day/
LOCATION:Mount Olive Seventh-day Adventist Church\, 1030 Albion Road\, Etobicoke\, Ontario\, M9V 1A7\, Canada
END:VEVENT
BEGIN:VEVENT
DTSTART;TZID=America/Toronto:20240908T100000
DTEND;TZID=America/Toronto:20240908T140000
DTSTAMP:20260423T124702
CREATED:20240504T212746Z
LAST-MODIFIED:20240504T212746Z
UID:1251-1725789600-1725804000@mtolivesda.org
SUMMARY:Church Board Meeting
DESCRIPTION:
URL:https://mtolivesda.org/event/church-board-meeting-4/
LOCATION:Mount Olive Seventh-day Adventist Church\, 1030 Albion Road\, Etobicoke\, Ontario\, M9V 1A7\, Canada
END:VEVENT
BEGIN:VEVENT
DTSTART;VALUE=DATE:20240906
DTEND;VALUE=DATE:20240909
DTSTAMP:20260423T124702
CREATED:20240428T233537Z
LAST-MODIFIED:20240428T233537Z
UID:1148-1725580800-1725839999@mtolivesda.org
SUMMARY:Womans Retreat
DESCRIPTION:
URL:https://mtolivesda.org/event/womans-retreat/
LOCATION:Belleville
END:VEVENT
BEGIN:VEVENT
DTSTART;VALUE=DATE:20240901
DTEND;VALUE=DATE:20240902
DTSTAMP:20260423T124702
CREATED:20240428T233410Z
LAST-MODIFIED:20240428T233410Z
UID:1146-1725148800-1725235199@mtolivesda.org
SUMMARY:Back to School Breakfast
DESCRIPTION:
URL:https://mtolivesda.org/event/back-to-school-breakfast/
END:VEVENT
BEGIN:VEVENT
DTSTART;VALUE=DATE:20240901
DTEND;VALUE=DATE:20240902
DTSTAMP:20260423T124702
CREATED:20240428T233231Z
LAST-MODIFIED:20240428T233231Z
UID:1144-1725148800-1725235199@mtolivesda.org
SUMMARY:Baby Dedication
DESCRIPTION:
URL:https://mtolivesda.org/event/baby-dedication-6/
LOCATION:Mount Olive Seventh-day Adventist Church\, 1030 Albion Road\, Etobicoke\, Ontario\, M9V 1A7\, Canada
END:VEVENT
BEGIN:VEVENT
DTSTART;VALUE=DATE:20240818
DTEND;VALUE=DATE:20240819
DTSTAMP:20260423T124702
CREATED:20240428T233127Z
LAST-MODIFIED:20240428T233127Z
UID:1142-1723939200-1724025599@mtolivesda.org
SUMMARY:Seniors Walk
DESCRIPTION:
URL:https://mtolivesda.org/event/seniors-walk/
END:VEVENT
BEGIN:VEVENT
DTSTART;VALUE=DATE:20240817
DTEND;VALUE=DATE:20240818
DTSTAMP:20260423T124702
CREATED:20240428T233053Z
LAST-MODIFIED:20240428T233053Z
UID:1140-1723852800-1723939199@mtolivesda.org
SUMMARY:Bake Sale
DESCRIPTION:
URL:https://mtolivesda.org/event/bake-sale-3/
LOCATION:Mount Olive Seventh-day Adventist Church\, 1030 Albion Road\, Etobicoke\, Ontario\, M9V 1A7\, Canada
END:VEVENT
BEGIN:VEVENT
DTSTART;VALUE=DATE:20240805
DTEND;VALUE=DATE:20240812
DTSTAMP:20260423T124702
CREATED:20240428T232946Z
LAST-MODIFIED:20240428T232946Z
UID:1136-1722816000-1723420799@mtolivesda.org
SUMMARY:Int'l Pathfinders Camporee
DESCRIPTION:“Belive in the Promise”
URL:https://mtolivesda.org/event/intl-pathfinders-camporee/
LOCATION:Wyoming USA
END:VEVENT
BEGIN:VEVENT
DTSTART;VALUE=DATE:20240803
DTEND;VALUE=DATE:20240804
DTSTAMP:20260423T124702
CREATED:20240428T232818Z
LAST-MODIFIED:20240428T232818Z
UID:1134-1722643200-1722729599@mtolivesda.org
SUMMARY:Baby Dedication
DESCRIPTION:
URL:https://mtolivesda.org/event/baby-dedication-5/
LOCATION:Mount Olive Seventh-day Adventist Church\, 1030 Albion Road\, Etobicoke\, Ontario\, M9V 1A7\, Canada
END:VEVENT
BEGIN:VEVENT
DTSTART;VALUE=DATE:20240728
DTEND;VALUE=DATE:20240729
DTSTAMP:20260423T124702
CREATED:20240428T232657Z
LAST-MODIFIED:20240428T232726Z
UID:1130-1722124800-1722211199@mtolivesda.org
SUMMARY:Meet & Greet
DESCRIPTION:
URL:https://mtolivesda.org/event/meet-greet/
LOCATION:Elbank
END:VEVENT
BEGIN:VEVENT
DTSTART;VALUE=DATE:20240727
DTEND;VALUE=DATE:20240728
DTSTAMP:20260423T124702
CREATED:20240504T212513Z
LAST-MODIFIED:20240504T212513Z
UID:1249-1722038400-1722124799@mtolivesda.org
SUMMARY:Children's Sabbath
DESCRIPTION:
URL:https://mtolivesda.org/event/childrens-sabbath-2/
LOCATION:Mount Olive Seventh-day Adventist Church\, 1030 Albion Road\, Etobicoke\, Ontario\, M9V 1A7\, Canada
END:VEVENT
BEGIN:VEVENT
DTSTART;VALUE=DATE:20240727
DTEND;VALUE=DATE:20240728
DTSTAMP:20260423T124702
CREATED:20240428T232500Z
LAST-MODIFIED:20240428T232500Z
UID:1128-1722038400-1722124799@mtolivesda.org
SUMMARY:Children's Sabbath
DESCRIPTION:Lunch will be served
URL:https://mtolivesda.org/event/childrens-sabbath/
LOCATION:Mount Olive Seventh-day Adventist Church\, 1030 Albion Road\, Etobicoke\, Ontario\, M9V 1A7\, Canada
END:VEVENT
BEGIN:VEVENT
DTSTART;VALUE=DATE:20240721
DTEND;VALUE=DATE:20240722
DTSTAMP:20260423T124702
CREATED:20240504T212308Z
LAST-MODIFIED:20240504T212308Z
UID:1247-1721520000-1721606399@mtolivesda.org
SUMMARY:Car Wash
DESCRIPTION:
URL:https://mtolivesda.org/event/car-wash-3/
LOCATION:Mount Olive Seventh-day Adventist Church\, 1030 Albion Road\, Etobicoke\, Ontario\, M9V 1A7\, Canada
END:VEVENT
BEGIN:VEVENT
DTSTART;TZID=America/Toronto:20240714T100000
DTEND;TZID=America/Toronto:20240714T140000
DTSTAMP:20260423T124702
CREATED:20240504T212217Z
LAST-MODIFIED:20240504T212217Z
UID:1245-1720951200-1720965600@mtolivesda.org
SUMMARY:Church Board Meeting
DESCRIPTION:
URL:https://mtolivesda.org/event/church-board-meeting-3/
END:VEVENT
BEGIN:VEVENT
DTSTART;VALUE=DATE:20240714
DTEND;VALUE=DATE:20240715
DTSTAMP:20260423T124702
CREATED:20240428T232349Z
LAST-MODIFIED:20240428T232349Z
UID:1126-1720915200-1721001599@mtolivesda.org
SUMMARY:Church Picnic
DESCRIPTION:
URL:https://mtolivesda.org/event/church-picnic/
END:VEVENT
BEGIN:VEVENT
DTSTART;TZID=America/Toronto:20240707T080000
DTEND;TZID=America/Toronto:20240720T170000
DTSTAMP:20260423T124702
CREATED:20240428T232309Z
LAST-MODIFIED:20240428T232309Z
UID:1124-1720339200-1721494800@mtolivesda.org
SUMMARY:Evangelistic Series
DESCRIPTION:
URL:https://mtolivesda.org/event/evangelistic-series/
LOCATION:Mount Olive Seventh-day Adventist Church\, 1030 Albion Road\, Etobicoke\, Ontario\, M9V 1A7\, Canada
END:VEVENT
BEGIN:VEVENT
DTSTART;VALUE=DATE:20240707
DTEND;VALUE=DATE:20240708
DTSTAMP:20260423T124702
CREATED:20240504T212112Z
LAST-MODIFIED:20240504T212112Z
UID:1243-1720310400-1720396799@mtolivesda.org
SUMMARY:Glo Zone Trip
DESCRIPTION:
URL:https://mtolivesda.org/event/glo-zone-trip/
END:VEVENT
END:VCALENDAR